BEGIN:VCALENDAR
VERSION:2.0
PRODID:-//eventon.com NONSGML v1.0//EN
CALSCALE:GREGORIAN
METHOD:PUBLISH
BEGIN:VEVENT
UID:69e4e73fd4560
DTSTAMP:20260419T143127Z
DTSTART:20241114T160000Z
DTEND:20241115T055900Z
LOCATION:Pasaje Sexta 6a. calle\,  entre 6a. y 7a. avenida\,  zona 1
SUMMARY:Asiste al ensayo abierto del Cuarteto Primavera\,  en el Palacio
DESCRIPTION:El Festival Nacional de Música de Cámara continúa en noviemb
 re. El jueves 14 podrás disfrutar de un ensayo abierto\,  con lo mejor del
  repertorio del Cuarteto Primavera. Comparte con tu familia y amigos una ma
 ñana musical en el Palacio. ¡La entrada es libre!\nhttps://agendacultural
 .mcd.gob.gt/events/asiste-al-ensayo-abierto-del-cuarteto-primavera-en-el-pa
 lacio/
URL:https://agendacultural.mcd.gob.gt/events/asiste-al-ensayo-abierto-del-cuarteto-primavera-en-el-palacio/
END:VEVENT
END:VCALENDAR